BEGIN:VCALENDAR
VERSION:2.0
PRODID:-//VAGAČOV DOM - ECPv5.1.1//NONSGML v1.0//EN
CALSCALE:GREGORIAN
METHOD:PUBLISH
X-WR-CALNAME:VAGAČOV DOM
X-ORIGINAL-URL:https://vagacovdom.sk
X-WR-CALDESC:Events for VAGAČOV DOM
BEGIN:VTIMEZONE
TZID:Europe/Bratislava
BEGIN:DAYLIGHT
TZOFFSETFROM:+0100
TZOFFSETTO:+0200
TZNAME:CEST
DTSTART:20260329T010000
END:DAYLIGHT
BEGIN:STANDARD
TZOFFSETFROM:+0200
TZOFFSETTO:+0100
TZNAME:CET
DTSTART:20261025T010000
END:STANDARD
END:VTIMEZONE
BEGIN:VEVENT
DTSTART;TZID=Europe/Bratislava:20260204T170000
DTEND;TZID=Europe/Bratislava:20260204T170000
DTSTAMP:20260425T160256
CREATED:20260210T114637Z
LAST-MODIFIED:20260210T114637Z
UID:1801-1770224400-1770224400@vagacovdom.sk
SUMMARY:Detské divadielko
DESCRIPTION:Spolu s Divadlom Dúha vás pozývame do priestorov Vagačovho domu na bábkové predstavenie – Zimná rozprávka o dvoch snehuliakoch \n
URL:https://vagacovdom.sk/podujatie/detske-divadielko/
LOCATION:Slovensko
ATTACH;FMTTYPE=image/jpeg:https://vagacovdom.sk/wp-content/uploads/2026/02/620147989_1498998105559906_3285114261253404690_n.jpg
END:VEVENT
BEGIN:VEVENT
DTSTART;TZID=Europe/Bratislava:20260209T170000
DTEND;TZID=Europe/Bratislava:20260209T173000
DTSTAMP:20260425T160256
CREATED:20260210T114831Z
LAST-MODIFIED:20260210T114831Z
UID:1804-1770656400-1770658200@vagacovdom.sk
SUMMARY:Čítanie pre deti
DESCRIPTION:Tradičné čítanie pre deti…v priestoroch kaviarne…spolu so Základnou umeleckou školou Svetozára Stračinu v Detve. \n
URL:https://vagacovdom.sk/podujatie/citanie-pre-deti-5/
LOCATION:Slovensko
ATTACH;FMTTYPE=image/jpeg:https://vagacovdom.sk/wp-content/uploads/2026/02/621838747_1501694598623590_8099252473795331920_n.jpg
END:VEVENT
BEGIN:VEVENT
DTSTART;TZID=Europe/Bratislava:20260222T170000
DTEND;TZID=Europe/Bratislava:20260222T180000
DTSTAMP:20260425T160256
CREATED:20260210T115335Z
LAST-MODIFIED:20260210T115335Z
UID:1810-1771779600-1771783200@vagacovdom.sk
SUMMARY:Večer komornej hudby a spevu
DESCRIPTION:\nSrdečne vás pozývame na Večer komornej hudby a spevu v Detve! \n\n\nPríďte si vychutnať známe operné árie a inštrumentálne diela v podaní mladých talentov z Akadémie umení v Banskej umení v Banskej Bystrici. Zažite s nami večer plný emócií a objavte budúcich majstrov svetových pódií v príjemnej komornej atmosfére. \n\n\nPríďte podporiť nastupujúcu generáciu umelcov a doprajte si jedinečný kultúrny zážitok. Tešíme sa na vás!\n\n
URL:https://vagacovdom.sk/podujatie/vecer-komornej-hudby-a-spevu/
LOCATION:Slovensko
ATTACH;FMTTYPE=image/jpeg:https://vagacovdom.sk/wp-content/uploads/2026/02/631872034_1516330587159991_1963185667243518586_n.jpg
END:VEVENT
END:VCALENDAR