BEGIN:VCALENDAR
VERSION:2.0
PRODID:-//VAGAČOV DOM - ECPv5.1.1//NONSGML v1.0//EN
CALSCALE:GREGORIAN
METHOD:PUBLISH
X-WR-CALNAME:VAGAČOV DOM
X-ORIGINAL-URL:https://vagacovdom.sk
X-WR-CALDESC:Events for VAGAČOV DOM
BEGIN:VTIMEZONE
TZID:Europe/Bratislava
BEGIN:DAYLIGHT
TZOFFSETFROM:+0100
TZOFFSETTO:+0200
TZNAME:CEST
DTSTART:20260329T010000
END:DAYLIGHT
BEGIN:STANDARD
TZOFFSETFROM:+0200
TZOFFSETTO:+0100
TZNAME:CET
DTSTART:20261025T010000
END:STANDARD
END:VTIMEZONE
BEGIN:VEVENT
DTSTART;TZID=Europe/Bratislava:20260306T180000
DTEND;TZID=Europe/Bratislava:20260306T200000
DTSTAMP:20260425T141534
CREATED:20260210T115000Z
LAST-MODIFIED:20260210T115000Z
UID:1807-1772820000-1772827200@vagacovdom.sk
SUMMARY:Degustácia vína
DESCRIPTION:\nSpolu s Terra Wylak Winery sme pre vás pripravili 6. marca takúto milú udalosť – degustácia vína.\n\n\nPočas 2-hodinovej degustácie pod vedením skúseného someliéra ochutnáte 8 starostlivo vybraných vzoriek výnimočných vín. Táto elegantná a vzrušujúca skúsenosť vám otvorí dvere do sveta rozmanitých chutí a vôní\, ktoré zanechajú nezabudnuteľný dojem…\n\n\nNa degustáciu je potrebné sa prihlásiť – 0915 058 611\nBudeme radi\, keď prídete \n\n
URL:https://vagacovdom.sk/podujatie/degustacia-vina/
LOCATION:Slovensko
ATTACH;FMTTYPE=image/jpeg:https://vagacovdom.sk/wp-content/uploads/2026/02/629298212_1496123542519563_5112993472573827988_n.jpg
END:VEVENT
END:VCALENDAR