BEGIN:VCALENDAR
VERSION:2.0
PRODID:-//VAGAČOV DOM - ECPv5.1.1//NONSGML v1.0//EN
CALSCALE:GREGORIAN
METHOD:PUBLISH
X-WR-CALNAME:VAGAČOV DOM
X-ORIGINAL-URL:https://vagacovdom.sk
X-WR-CALDESC:Events for VAGAČOV DOM
BEGIN:VTIMEZONE
TZID:Europe/Bratislava
BEGIN:DAYLIGHT
TZOFFSETFROM:+0100
TZOFFSETTO:+0200
TZNAME:CEST
DTSTART:20260329T010000
END:DAYLIGHT
BEGIN:STANDARD
TZOFFSETFROM:+0200
TZOFFSETTO:+0100
TZNAME:CET
DTSTART:20261025T010000
END:STANDARD
END:VTIMEZONE
BEGIN:VEVENT
DTSTART;TZID=Europe/Bratislava:20260426T170000
DTEND;TZID=Europe/Bratislava:20260426T180000
DTSTAMP:20260425T102923
CREATED:20260409T124848Z
LAST-MODIFIED:20260409T125744Z
UID:1824-1777222800-1777226400@vagacovdom.sk
SUMMARY:Komorný koncert
DESCRIPTION:\nPozývame vás na príjemný hudobný večer v komornej atmosfére\, kde sa predstavia talentovaní študenti Akadémie umení v Banskej Bystrici.\n\n\nMôžete sa tešiť na:\n– spev\n– hru na hudobné nástroje\n– pestrý program klasickej hudby\n\n\nPríďte si vychutnať jedinečné spojenie hudby a príjemného prostredia.\n\n
URL:https://vagacovdom.sk/podujatie/komorny-koncert-2/
LOCATION:Vagačov dom\, PARTIZÁNSKA 54/82\, 962 12 DETVA\, Detva\, Slovensko\, 962 12
ATTACH;FMTTYPE=image/png:https://vagacovdom.sk/wp-content/uploads/2026/04/Šablóna-plagát-Podujatie-hnedá-verzia-–-kópia-1.png
ORGANIZER;CN="Vaga%C4%8Dov%20dom":MAILTO:info@vagacovdom.sk
END:VEVENT
END:VCALENDAR