BEGIN:VCALENDAR
VERSION:2.0
PRODID:-//VAGAČOV DOM - ECPv5.1.1//NONSGML v1.0//EN
CALSCALE:GREGORIAN
METHOD:PUBLISH
X-WR-CALNAME:VAGAČOV DOM
X-ORIGINAL-URL:https://vagacovdom.sk
X-WR-CALDESC:Events for VAGAČOV DOM
BEGIN:VTIMEZONE
TZID:Europe/Bratislava
BEGIN:DAYLIGHT
TZOFFSETFROM:+0100
TZOFFSETTO:+0200
TZNAME:CEST
DTSTART:20250330T010000
END:DAYLIGHT
BEGIN:STANDARD
TZOFFSETFROM:+0200
TZOFFSETTO:+0100
TZNAME:CET
DTSTART:20251026T010000
END:STANDARD
END:VTIMEZONE
BEGIN:VEVENT
DTSTART;TZID=Europe/Bratislava:20251026T170000
DTEND;TZID=Europe/Bratislava:20251026T180000
DTSTAMP:20260426T012035
CREATED:20260210T112928Z
LAST-MODIFIED:20260210T112928Z
UID:1776-1761498000-1761501600@vagacovdom.sk
SUMMARY:Komorný koncert
DESCRIPTION:\nSpolu s Akadémiou umení v Banskej Bystrici vás srdečne pozývame v nedeľu 26.10. 2025 o 17:00 na komorný koncert v priestoroch Vagačovho domu .\n\n\nOdznejú známe árie z opier ako Prodaná nevěsta\, Rusalka\, Holubička a Rinaldo. Klavírny doprovod v podaní vynikajúcej Helen Tsiareshchanka.\n\n
URL:https://vagacovdom.sk/podujatie/komorny-koncert/
LOCATION:Múzeum Vagačov dom\, Partizánska 82\, Detva\, Slovenská republika
ATTACH;FMTTYPE=image/jpeg:https://vagacovdom.sk/wp-content/uploads/2026/02/565095031_1414273797365671_3224559162801328478_n.jpg
END:VEVENT
END:VCALENDAR