BEGIN:VCALENDAR
VERSION:2.0
PRODID:-//VAGAČOV DOM - ECPv5.1.1//NONSGML v1.0//EN
CALSCALE:GREGORIAN
METHOD:PUBLISH
X-WR-CALNAME:VAGAČOV DOM
X-ORIGINAL-URL:https://vagacovdom.sk
X-WR-CALDESC:Events for VAGAČOV DOM
BEGIN:VTIMEZONE
TZID:Europe/Bratislava
BEGIN:DAYLIGHT
TZOFFSETFROM:+0100
TZOFFSETTO:+0200
TZNAME:CEST
DTSTART:20250330T010000
END:DAYLIGHT
BEGIN:STANDARD
TZOFFSETFROM:+0200
TZOFFSETTO:+0100
TZNAME:CET
DTSTART:20251026T010000
END:STANDARD
END:VTIMEZONE
BEGIN:VEVENT
DTSTART;TZID=Europe/Bratislava:20250809T183000
DTEND;TZID=Europe/Bratislava:20250809T213000
DTSTAMP:20260426T031333
CREATED:20250603T145312Z
LAST-MODIFIED:20250603T145312Z
UID:1681-1754764200-1754775000@vagacovdom.sk
SUMMARY:Koncert Collegium musicum tribute
DESCRIPTION:
URL:https://vagacovdom.sk/podujatie/koncert-collegium-musicum-tribute/
END:VEVENT
END:VCALENDAR