BEGIN:VCALENDAR
VERSION:2.0
PRODID:-//VAGAČOV DOM - ECPv5.1.1//NONSGML v1.0//EN
CALSCALE:GREGORIAN
METHOD:PUBLISH
X-WR-CALNAME:VAGAČOV DOM
X-ORIGINAL-URL:https://vagacovdom.sk
X-WR-CALDESC:Events for VAGAČOV DOM
BEGIN:VTIMEZONE
TZID:Europe/Bratislava
BEGIN:DAYLIGHT
TZOFFSETFROM:+0100
TZOFFSETTO:+0200
TZNAME:CEST
DTSTART:20250330T010000
END:DAYLIGHT
BEGIN:STANDARD
TZOFFSETFROM:+0200
TZOFFSETTO:+0100
TZNAME:CET
DTSTART:20251026T010000
END:STANDARD
END:VTIMEZONE
BEGIN:VEVENT
DTSTART;TZID=Europe/Bratislava:20250607T183000
DTEND;TZID=Europe/Bratislava:20250607T213000
DTSTAMP:20260425T214922
CREATED:20250603T144656Z
LAST-MODIFIED:20250603T144733Z
UID:1669-1749321000-1749331800@vagacovdom.sk
SUMMARY:Koncert Smooth Camel
DESCRIPTION:Smooth Camel je zoskupenie mladých hudobníkov\, ktorí zbožňujú moderný sound\, hrajú vlastné úpravy prevzatých skladieb\, v ktorých spájajú prvky jazzu\, funku\, neo-soulu a R&B. \n
URL:https://vagacovdom.sk/podujatie/koncert-smooth-camel/
ATTACH;FMTTYPE=image/png:https://vagacovdom.sk/wp-content/uploads/2025/06/Šablóna-plagát-Podujatie-krémová-verzia-–-kópia-–-kópia-2.png
ORGANIZER;CN="Vaga%C4%8Dov%20dom":MAILTO:info@vagacovdom.sk
END:VEVENT
END:VCALENDAR