BEGIN:VCALENDAR
VERSION:2.0
PRODID:-//VAGAČOV DOM - ECPv5.1.1//NONSGML v1.0//EN
CALSCALE:GREGORIAN
METHOD:PUBLISH
X-WR-CALNAME:VAGAČOV DOM
X-ORIGINAL-URL:https://vagacovdom.sk
X-WR-CALDESC:Events for VAGAČOV DOM
BEGIN:VTIMEZONE
TZID:Europe/Bratislava
BEGIN:DAYLIGHT
TZOFFSETFROM:+0100
TZOFFSETTO:+0200
TZNAME:CEST
DTSTART:20250330T010000
END:DAYLIGHT
BEGIN:STANDARD
TZOFFSETFROM:+0200
TZOFFSETTO:+0100
TZNAME:CET
DTSTART:20251026T010000
END:STANDARD
END:VTIMEZONE
BEGIN:VEVENT
DTSTART;TZID=Europe/Bratislava:20251214T170000
DTEND;TZID=Europe/Bratislava:20251214T183000
DTSTAMP:20260425T214539
CREATED:20260210T114220Z
LAST-MODIFIED:20260210T114220Z
UID:1795-1765731600-1765737000@vagacovdom.sk
SUMMARY:Spevácky komorný koncert
DESCRIPTION:V nedeľu 14. decembra vás spolu s Akadémiu umení v Banskej Bystrici a speváckou skupinou Superar Slovakia pozývame na spoločný spevácky koncert. Začiatok o 17:00  \n
URL:https://vagacovdom.sk/podujatie/spevacky-komorny-koncert/
ATTACH;FMTTYPE=image/jpeg:https://vagacovdom.sk/wp-content/uploads/2026/02/597555829_1460432226083161_1452715666752041499_n.jpg
END:VEVENT
END:VCALENDAR