BEGIN:VCALENDAR
VERSION:2.0
PRODID:-//VAGAČOV DOM - ECPv5.1.1//NONSGML v1.0//EN
CALSCALE:GREGORIAN
METHOD:PUBLISH
X-WR-CALNAME:VAGAČOV DOM
X-ORIGINAL-URL:https://vagacovdom.sk
X-WR-CALDESC:Events for VAGAČOV DOM
BEGIN:VTIMEZONE
TZID:Europe/Bratislava
BEGIN:DAYLIGHT
TZOFFSETFROM:+0100
TZOFFSETTO:+0200
TZNAME:CEST
DTSTART:20250330T010000
END:DAYLIGHT
BEGIN:STANDARD
TZOFFSETFROM:+0200
TZOFFSETTO:+0100
TZNAME:CET
DTSTART:20251026T010000
END:STANDARD
END:VTIMEZONE
BEGIN:VEVENT
DTSTART;TZID=Europe/Bratislava:20251203T170000
DTEND;TZID=Europe/Bratislava:20251203T183000
DTSTAMP:20260425T213109
CREATED:20260210T113631Z
LAST-MODIFIED:20260210T113631Z
UID:1788-1764781200-1764786600@vagacovdom.sk
SUMMARY:Stridžie dni
DESCRIPTION:Diskusia s etnologičkou\, s vynikajúcou speváčkou\, s osobou s obdivuhodnými znalosťami z oblasti tradičnej kultúry Slovenska – s pani Andreou Jágerovou.\nUrčite príďte\, všeličo zaujímavé sa dozviete\n
URL:https://vagacovdom.sk/podujatie/stridzie-dni/
ATTACH;FMTTYPE=image/jpeg:https://vagacovdom.sk/wp-content/uploads/2026/02/591698007_1451574923635558_338307180002188200_n.jpg
END:VEVENT
END:VCALENDAR