BEGIN:VCALENDAR
VERSION:2.0
PRODID:-//VAGAČOV DOM - ECPv5.1.1//NONSGML v1.0//EN
CALSCALE:GREGORIAN
METHOD:PUBLISH
X-WR-CALNAME:VAGAČOV DOM
X-ORIGINAL-URL:https://vagacovdom.sk
X-WR-CALDESC:Events for VAGAČOV DOM
BEGIN:VTIMEZONE
TZID:Europe/Bratislava
BEGIN:DAYLIGHT
TZOFFSETFROM:+0100
TZOFFSETTO:+0200
TZNAME:CEST
DTSTART:20250330T010000
END:DAYLIGHT
BEGIN:STANDARD
TZOFFSETFROM:+0200
TZOFFSETTO:+0100
TZNAME:CET
DTSTART:20251026T010000
END:STANDARD
END:VTIMEZONE
BEGIN:VEVENT
DTSTART;TZID=Europe/Bratislava:20250603T170000
DTEND;TZID=Europe/Bratislava:20250603T180000
DTSTAMP:20260425T200944
CREATED:20250603T115125Z
LAST-MODIFIED:20250603T142605Z
UID:1656-1748970000-1748973600@vagacovdom.sk
SUMMARY:Vernisáž výstavy prác žiakov Školy umeleckého priemyslu
DESCRIPTION:
URL:https://vagacovdom.sk/podujatie/vernisaz-vystavy-prac-ziakov-skoly-umeleckeho-priemyslu/
ORGANIZER;CN="M%C3%BAzeum%20-%20Vaga%C4%8Dov%20dom":MAILTO:muzeum@vagacovdom.sk
END:VEVENT
END:VCALENDAR