BEGIN:VCALENDAR
VERSION:2.0
PRODID:-//VAGAČOV DOM - ECPv5.1.1//NONSGML v1.0//EN
CALSCALE:GREGORIAN
METHOD:PUBLISH
X-WR-CALNAME:VAGAČOV DOM
X-ORIGINAL-URL:https://vagacovdom.sk
X-WR-CALDESC:Events for VAGAČOV DOM
BEGIN:VTIMEZONE
TZID:Europe/Bratislava
BEGIN:DAYLIGHT
TZOFFSETFROM:+0100
TZOFFSETTO:+0200
TZNAME:CEST
DTSTART:20250330T010000
END:DAYLIGHT
BEGIN:STANDARD
TZOFFSETFROM:+0200
TZOFFSETTO:+0100
TZNAME:CET
DTSTART:20251026T010000
END:STANDARD
END:VTIMEZONE
BEGIN:VEVENT
DTSTART;TZID=Europe/Bratislava:20250315T170000
DTEND;TZID=Europe/Bratislava:20250515T170000
DTSTAMP:20260425T181628
CREATED:20250314T165119Z
LAST-MODIFIED:20250314T165225Z
UID:1636-1742058000-1747328400@vagacovdom.sk
SUMMARY:Výstava fotografií
DESCRIPTION:Michal Madacký – FOTO OKAMIHY \n„Michal Madacký sa narodil 8. mája 1955 v Kysáči. Fotografiou sa začal zaoberať roku 1974. Odvtedy sa špecializoval pre farebnú fotografiu. Fotografie Michala Madackého svojou koncepciou sú blízke maliarstvu. Pôsobia mimočasove\, i keď sú prirodzene poznačené dobou. Ďalšie špecifikum Madackého tvorby spočíva v takmer výlučnom zaoberaní sa farebnou fotografiou. Madacký najradšej a najčastejšie robí ateliérové snímky\, kde objektívom zaznamenáva lyricky a neraz záhadne komponované zátišia. Tak vznikli početné cykly jeho fotografií\, ktoré boli najčastejšie využívané na luxusne vybavených nástenných kalendároch. Lyrické ovzdušie a nálada\, ktorú Madackého fotografie zachytávajú a šíria\, sú zakódované v umení využívania svetla\, ktoré je pre fotografiu najdôležitejšie. Svetlom znalecky narába\, a tak dosahuje lyrickosť a romantický\, neraz aj surrealistický\, nádych fotografického prejavu.“ Vladimír Valantík \nMiroslav Pavlovič – NECHCEM REALITU\, CHCEM MÁGIU \n„Nechcem realizmus\, chcem mágiu Miroslav Pavlovič prelínaním dvoch motívov – prírody a zrúcanín hradov či zámkov potvrdil príbeh o nepremožiteľnej prírode a postupnom rozkladaní niečoho\, čo bolo symbolom moci a neporaziteľnosti. Grafik v ňom odohnal farby z fotografií a predstavil nám svet v čierno-bielom vydaní.“ Miroslav Pavlovič \n  \n
URL:https://vagacovdom.sk/podujatie/vystava-fotografii/
LOCATION:Múzeum Vagačov dom\, Partizánska 82\, Detva\, Slovenská republika
ATTACH;FMTTYPE=application/pdf:https://vagacovdom.sk/wp-content/uploads/2025/03/Srbi-1.pdf
ORGANIZER;CN="M%C3%BAzeum%20-%20Vaga%C4%8Dov%20dom":MAILTO:muzeum@vagacovdom.sk
END:VEVENT
END:VCALENDAR